BEGIN:VCALENDAR
METHOD:PUBLISH
PRODID:evanced event management system
VERSION:2.0
BEGIN:VEVENT
UID:http://events.wlnonline.org/eventsignup.asp?ID=41675
DTSTAMP:20250324T102443Z
DTSTART:20250408T180000Z
DTEND:20250408T190000Z
TITLE;ENCODING=QUOTED-PRINTABLE:Virtual Author Talk: Matthew Fleming 
SUMMARY;ENCODING=QUOTED-PRINTABLE:Virtual Author Talk: Matthew Fleming 
DESCRIPTION;ENCODING=QUOTED-PRINTABLE:Description: Join us as Smithsonian Horticulturalist Matthew Fleming, guides us through the secret world of trees as is revealed in the beautiful and absorbing guide to the giants of the plant world—The Tree Book: The Stories, Science, and History of Trees on Tuesday, April 8 at 2 PM ET via digital live-stream in partnership with Adams Memorial Library!=0D=0AThe intricate world of leafy woodlands and abundant rainforests is revealed in this extensive visual guide to trees, exploring their key scientific traits and their ecological importance, as well as their enduring significance in human history and culture. =0D=0ACombining natural history and a scientific overview with a wider look at the history, uses, symbolism, and mythology of trees, this book is a new kind of guide to these fascinating organisms.=0D=0AThis program is FREE but registration is required.=0D=0ATo register please visit our website.
LOCATION:Adams Memorial Library at Online
URL:http://events.wlnonline.org/eventsignup.asp?ID=41675
CATEGORIES:Adult Program
END:VEVENT
END:VCALENDAR
