BEGIN:VCALENDAR
METHOD:PUBLISH
PRODID:evanced event management system
VERSION:2.0
BEGIN:VEVENT
UID:http://events.wlnonline.org/eventsignup.asp?ID=41465
DTSTAMP:20250319T104225Z
DTSTART:20250317T143000Z
DTEND:20250317T143000Z
TITLE;ENCODING=QUOTED-PRINTABLE:Song and Rhyme Time 
SUMMARY;ENCODING=QUOTED-PRINTABLE:Song and Rhyme Time 
DESCRIPTION;ENCODING=QUOTED-PRINTABLE:Join Miss Karen for an at-home song and rhyme session to enjoy any time or anywhere! You can follow along on our website or social media!
LOCATION:Adams Memorial Library at Online
URL:http://events.wlnonline.org/eventsignup.asp?ID=41465
CATEGORIES:Children's Program
END:VEVENT
END:VCALENDAR
