BEGIN:VCALENDAR
METHOD:PUBLISH
PRODID:evanced event management system
VERSION:2.0
BEGIN:VEVENT
UID:http://events.wlnonline.org/eventsignup.asp?ID=41458
DTSTAMP:20250324T155235Z
DTSTART:20250416T153000Z
DTEND:20250416T160000Z
TITLE;ENCODING=QUOTED-PRINTABLE:Storytime 
SUMMARY;ENCODING=QUOTED-PRINTABLE:Storytime 
DESCRIPTION;ENCODING=QUOTED-PRINTABLE:Designed for friends from 2½ to 5 years old who enjoy listening to stories, and their caregivers. Storytime features books on a different theme each week, plus songs and rhymes. The same Storytime session is repeated Tuesday through Thursday each week.  To register, stopy by the Children’s Room or call 724-537-4383. Space may be limited!  If the Greater Latrobe School District is closed or delayed for weather-related reasons, there will be no Storytime! For information on delays and closings for the Greater Latrobe School District, please visit www.glsd.us=0D=0A
LOCATION:Adams Memorial Library at Reed Room
URL:http://events.wlnonline.org/eventsignup.asp?ID=41458
CATEGORIES:Children's Program
END:VEVENT
END:VCALENDAR
