BEGIN:VCALENDAR
METHOD:PUBLISH
PRODID:evanced event management system
VERSION:2.0
BEGIN:VEVENT
UID:http://events.wlnonline.org/eventsignup.asp?ID=41203
DTSTAMP:20250225T162432Z
DTSTART:20250313T143000Z
DTEND:20250313T163000Z
TITLE;ENCODING=QUOTED-PRINTABLE:Play Days
SUMMARY;ENCODING=QUOTED-PRINTABLE:Play Days
DESCRIPTION;ENCODING=QUOTED-PRINTABLE:Come and play with friends (or make new ones) at the library! We'll have our special toys out in the Reed Room from 10:30 am to 12:30pm each day, so you can play in the Children's Room and in the Reed Room! Enjoy indoor play at the Library! To register, please stop by the Children's Room or call 724-537-4383! Space may be limited!
LOCATION:Adams Memorial Library at Children's Room
URL:http://events.wlnonline.org/eventsignup.asp?ID=41203
CATEGORIES:Children's Program
END:VEVENT
END:VCALENDAR
