BEGIN:VCALENDAR
METHOD:PUBLISH
PRODID:evanced event management system
VERSION:2.0
BEGIN:VEVENT
UID:http://events.wlnonline.org/eventsignup.asp?ID=41175
DTSTAMP:20250429T140030Z
DTSTART:20250326T220000Z
DTEND:20250326T230000Z
TITLE;ENCODING=QUOTED-PRINTABLE:You at The Library
SUMMARY;ENCODING=QUOTED-PRINTABLE:You at The Library
DESCRIPTION;ENCODING=QUOTED-PRINTABLE:A Meeting for Young Adults to Help Discover What the Library has to Offer
LOCATION:Mount Pleasant Public Library at Exhibit 2
URL:http://events.wlnonline.org/eventsignup.asp?ID=41175
CATEGORIES:Teen Program
END:VEVENT
END:VCALENDAR
