BEGIN:VCALENDAR
METHOD:PUBLISH
PRODID:evanced event management system
VERSION:2.0
BEGIN:VEVENT
UID:http://events.wlnonline.org/eventsignup.asp?ID=41089
DTSTAMP:20250220T141830Z
DTSTART:20250304T150000Z
DTEND:20250304T160000Z
TITLE;ENCODING=QUOTED-PRINTABLE:Story Time
SUMMARY;ENCODING=QUOTED-PRINTABLE:Story Time
DESCRIPTION;ENCODING=QUOTED-PRINTABLE:Join Miss Sydney and Miss Barb for story time! We will read books, sing songs, and create crafts!
LOCATION:Penn Area Library at Multipurpose Room
URL:http://events.wlnonline.org/eventsignup.asp?ID=41089
CATEGORIES:Children's Program
END:VEVENT
END:VCALENDAR
