BEGIN:VCALENDAR
METHOD:PUBLISH
PRODID:evanced event management system
VERSION:2.0
BEGIN:VEVENT
UID:http://events.wlnonline.org/eventsignup.asp?ID=41087
DTSTAMP:20250220T141419Z
DTSTART:20250320T210000Z
DTEND:20250320T210000Z
TITLE;ENCODING=QUOTED-PRINTABLE:Family Board Game Night
SUMMARY;ENCODING=QUOTED-PRINTABLE:Family Board Game Night
DESCRIPTION;ENCODING=QUOTED-PRINTABLE:Join us for a fun evening of board games, card games, and more! 
LOCATION:Penn Area Library at Multipurpose Room
URL:http://events.wlnonline.org/eventsignup.asp?ID=41087
CATEGORIES:All Ages
END:VEVENT
END:VCALENDAR
