BEGIN:VCALENDAR
METHOD:PUBLISH
PRODID:evanced event management system
VERSION:2.0
BEGIN:VEVENT
UID:http://events.wlnonline.org/eventsignup.asp?ID=40974
DTSTAMP:20250715T145502Z
DTSTART:20250805T223000Z
DTEND:20250806T000000Z
TITLE;ENCODING=QUOTED-PRINTABLE:POSTPONED TO August 19 - Chai Time with Books
SUMMARY;ENCODING=QUOTED-PRINTABLE:POSTPONED TO August 19 - Chai Time with Books
DESCRIPTION;ENCODING=QUOTED-PRINTABLE:POSTPONED UNTIL August 19. Are you an adult who enjoys reading Young Adult and Middle Grade fiction? Join this book club on the 1st Tuesday of the month at 6:30-8pm. Join the host Tiff Parker and fellow readers for a fun discussion, along with some cozy chai tea. This month's book is Hello Universe by Erin Entrada Kelly. Register online at www.murrysvillelibrary.org or call the library at 724-327-1102.
LOCATION:Murrysville Community Library at Conference Room #1
URL:http://events.wlnonline.org/eventsignup.asp?ID=40974
CATEGORIES:Adult Program
END:VEVENT
END:VCALENDAR
