BEGIN:VCALENDAR
METHOD:PUBLISH
PRODID:evanced event management system
VERSION:2.0
BEGIN:VEVENT
UID:http://events.wlnonline.org/eventsignup.asp?ID=40781
DTSTAMP:20250411T141937Z
DTSTART:20250729T223000Z
DTEND:20250730T000000Z
TITLE;ENCODING=QUOTED-PRINTABLE:Pages from the Past Book Club
SUMMARY;ENCODING=QUOTED-PRINTABLE:Pages from the Past Book Club
DESCRIPTION;ENCODING=QUOTED-PRINTABLE:Historical and Non-fiction for adults.  This event is the last Tuesday of each month. The book for July is Travels with George by Nathaniel Philbrick. Register online at www.murrysvillelibrary.org or call the library at 724-327-1102.
LOCATION:Murrysville Community Library at Conference Room #1
URL:http://events.wlnonline.org/eventsignup.asp?ID=40781
CATEGORIES:Adult Program
END:VEVENT
END:VCALENDAR
