BEGIN:VCALENDAR
METHOD:PUBLISH
PRODID:evanced event management system
VERSION:2.0
BEGIN:VEVENT
UID:http://events.wlnonline.org/eventsignup.asp?ID=40772
DTSTAMP:20250205T100509Z
DTSTART:20250208T160000Z
DTEND:20250208T160000Z
TITLE;ENCODING=QUOTED-PRINTABLE:Friendship Bracelets 
SUMMARY;ENCODING=QUOTED-PRINTABLE:Friendship Bracelets 
DESCRIPTION;ENCODING=QUOTED-PRINTABLE:Celebrate all types of love this Valentine's Day! Stop by the library and create your own Friendship Bracelet as a fun way to share the love with friends. All supplies provided! Ages 12+
LOCATION:Penn Area Library at Library
URL:http://events.wlnonline.org/eventsignup.asp?ID=40772
CATEGORIES:Teen Program
END:VEVENT
END:VCALENDAR
