BEGIN:VCALENDAR
METHOD:PUBLISH
PRODID:evanced event management system
VERSION:2.0
BEGIN:VEVENT
UID:http://events.wlnonline.org/eventsignup.asp?ID=40770
DTSTAMP:20250201T092921Z
DTSTART:20250201T180000Z
DTEND:20250201T180000Z
TITLE;ENCODING=QUOTED-PRINTABLE:Comic Swap, The Game
SUMMARY;ENCODING=QUOTED-PRINTABLE:Comic Swap, The Game
DESCRIPTION;ENCODING=QUOTED-PRINTABLE:Join us for a special event created by a Teen Advisory Board. Create a comic frame in under two minutes then swap your book with someone else in the room to create a one-of-a-kind collaboration.
LOCATION:Penn Area Library at Multipurpose Room
URL:http://events.wlnonline.org/eventsignup.asp?ID=40770
CATEGORIES:Teen Program
END:VEVENT
END:VCALENDAR
