BEGIN:VCALENDAR
METHOD:PUBLISH
PRODID:evanced event management system
VERSION:2.0
BEGIN:VEVENT
UID:http://events.wlnonline.org/eventsignup.asp?ID=40705
DTSTAMP:20250127T131040Z
DTSTART:20250219T153000Z
DTEND:20250219T160000Z
TITLE;ENCODING=QUOTED-PRINTABLE:Wee Read 
SUMMARY;ENCODING=QUOTED-PRINTABLE:Wee Read 
DESCRIPTION;ENCODING=QUOTED-PRINTABLE:Designed for our youngest friends (from birth to 2½ years old) and their caregivers. Wee Read combines songs, rhymes, and socialization for a fun and engaging early literacy experience. The same Wee Read session is repeated Tuesday through Thursday each week. To register, stopy by the Children’s Room or call 724-537-4383. Space may be limited!  If the Greater Latrobe School District is closed or delayed for weather-related reasons, there will be no Wee Read! For information on delays and closings for the Greater Latrobe School District, please visit www.glsd.us
LOCATION:Adams Memorial Library at Reed Room
URL:http://events.wlnonline.org/eventsignup.asp?ID=40705
CATEGORIES:Children's Program
END:VEVENT
END:VCALENDAR
