BEGIN:VCALENDAR
METHOD:PUBLISH
PRODID:evanced event management system
VERSION:2.0
BEGIN:VEVENT
UID:http://events.wlnonline.org/eventsignup.asp?ID=40470
DTSTAMP:20250108T111946Z
DTSTART:20250604T160000Z
DTEND:20250604T160000Z
TITLE;ENCODING=QUOTED-PRINTABLE:Milestone PA 
SUMMARY;ENCODING=QUOTED-PRINTABLE:Milestone PA 
DESCRIPTION;ENCODING=QUOTED-PRINTABLE:This event is designed for adults with special needs and their caregivers. Attendees will take part in storytime, sing songs, and conclude with a simple craft activity. It offers a wonderful opportunity for social interaction and connecting with others.
LOCATION:Murrysville Community Library at Conference Rooms 1 & 2
URL:http://events.wlnonline.org/eventsignup.asp?ID=40470
CATEGORIES:Adult Program
END:VEVENT
END:VCALENDAR
