BEGIN:VCALENDAR
METHOD:PUBLISH
PRODID:evanced event management system
VERSION:2.0
BEGIN:VEVENT
UID:http://events.wlnonline.org/eventsignup.asp?ID=39807
DTSTAMP:20241228T103417Z
DTSTART:20250318T200000Z
DTEND:20250318T205500Z
TITLE;ENCODING=QUOTED-PRINTABLE:Chess Club, Beginner Students
SUMMARY;ENCODING=QUOTED-PRINTABLE:Chess Club, Beginner Students
DESCRIPTION;ENCODING=QUOTED-PRINTABLE:Thank you for registering for our upcoming Chess Club! This program is developed to expand children's critical thinking abilities and knowledge of the game. Winter classes will be held weekly on Tuesday evenings beginning in January. =0D=0A=0D=0ABeginner Classes: Tuesday evenings, 4:00 - 5:00 pm =0D=0AAdvanced Classes: Tuesday evenings, 5:00 - 6:00 pm =0D=0A=0D=0AFor more information, please contact the library at 724-744-4414.
LOCATION:Penn Area Library at Multipurpose Room
URL:http://events.wlnonline.org/eventsignup.asp?ID=39807
CATEGORIES:STEM
END:VEVENT
END:VCALENDAR
