BEGIN:VCALENDAR
METHOD:PUBLISH
PRODID:evanced event management system
VERSION:2.0
BEGIN:VEVENT
UID:http://events.wlnonline.org/eventsignup.asp?ID=39779
DTSTAMP:20250228T125318Z
DTSTART:20250321T170000Z
DTEND:20250321T174500Z
TITLE;ENCODING=QUOTED-PRINTABLE:CANCELLED Preschool Storytime
SUMMARY;ENCODING=QUOTED-PRINTABLE:CANCELLED Preschool Storytime
DESCRIPTION;ENCODING=QUOTED-PRINTABLE:CANCELLED PROGRAM - Preschool Storytime is designed for children ages 3-6 years old. Each session includes stories, songs, and a craft activity. Please register for each individual session. Register online at www.murrysvillelibrary.org or call the library at 724-327-1102.
LOCATION:Murrysville Community Library at Conference Room #1
URL:http://events.wlnonline.org/eventsignup.asp?ID=39779
CATEGORIES:Children's Program
END:VEVENT
END:VCALENDAR
