BEGIN:VCALENDAR
METHOD:PUBLISH
PRODID:evanced event management system
VERSION:2.0
BEGIN:VEVENT
UID:http://events.wlnonline.org/eventsignup.asp?ID=39154
DTSTAMP:20241129T151215Z
DTSTART:20250205T150000Z
DTEND:20250205T160000Z
TITLE;ENCODING=QUOTED-PRINTABLE:Toddler Time
SUMMARY;ENCODING=QUOTED-PRINTABLE:Toddler Time
DESCRIPTION;ENCODING=QUOTED-PRINTABLE:=0D=0AToddler Time is perfect for families with children ages 2 - 3 years old. Every program includes stories, literacy activities, and a craft for an adult and child to make together. Register online at www.murrysvillelibrary.org or call the library at 724-327-1102.
LOCATION:Murrysville Community Library at Conference Room #1
URL:http://events.wlnonline.org/eventsignup.asp?ID=39154
CATEGORIES:Children's Program
END:VEVENT
END:VCALENDAR
