BEGIN:VCALENDAR
METHOD:PUBLISH
PRODID:evanced event management system
VERSION:2.0
BEGIN:VEVENT
UID:http://events.wlnonline.org/eventsignup.asp?ID=39096
DTSTAMP:20250203T140654Z
DTSTART:20241204T230000Z
DTEND:20241205T000000Z
TITLE;ENCODING=QUOTED-PRINTABLE:Library Game Night
SUMMARY;ENCODING=QUOTED-PRINTABLE:Library Game Night
DESCRIPTION;ENCODING=QUOTED-PRINTABLE:We invite you to come to the library, either by yourself or with family and friends to take place in fun old fashioned game night.  Choose from our selection of games and just play.
LOCATION:Mount Pleasant Public Library at Exhibit
URL:http://events.wlnonline.org/eventsignup.asp?ID=39096
CATEGORIES:Family Friendly
END:VEVENT
END:VCALENDAR
