BEGIN:VCALENDAR
METHOD:PUBLISH
PRODID:evanced event management system
VERSION:2.0
BEGIN:VEVENT
UID:http://events.wlnonline.org/eventsignup.asp?ID=38985
DTSTAMP:20250120T110434Z
DTSTART:20250116T160000Z
DTEND:20250116T173000Z
TITLE;ENCODING=QUOTED-PRINTABLE:CANCELLED Thursday Morning Book group
SUMMARY;ENCODING=QUOTED-PRINTABLE:CANCELLED Thursday Morning Book group
DESCRIPTION;ENCODING=QUOTED-PRINTABLE:CANCELLED The group meets the 3rd Thursday of each month. The book selected for this month is The Life Impossible by Matt Haig.=0D=0A
LOCATION:Murrysville Community Library at Conference Rooms 1 & 2
URL:http://events.wlnonline.org/eventsignup.asp?ID=38985
CATEGORIES:Adult Program
END:VEVENT
END:VCALENDAR
