BEGIN:VCALENDAR
METHOD:PUBLISH
PRODID:evanced event management system
VERSION:2.0
BEGIN:VEVENT
UID:http://events.wlnonline.org/eventsignup.asp?ID=38982
DTSTAMP:20250118T113400Z
DTSTART:20250201T190000Z
DTEND:20250201T220000Z
TITLE;ENCODING=QUOTED-PRINTABLE:Dungeons & Dragons
SUMMARY;ENCODING=QUOTED-PRINTABLE:Dungeons & Dragons
DESCRIPTION;ENCODING=QUOTED-PRINTABLE:Take on the role of a fantasy hero and help tell your story in collaboration with fellow players and Dungeon Master, Scott! No background in D&D? No problem! Come to learn about how it works and participate at your own pace. For 6th - 8th grade. The group meets the 1st and 3rd Saturdays of the month. Register online @ www.murrysvillelibrary.org or call the library at 724-327-1102.
LOCATION:Murrysville Community Library at Conference Rooms 1 & 2
URL:http://events.wlnonline.org/eventsignup.asp?ID=38982
CATEGORIES:Children's Program
END:VEVENT
END:VCALENDAR
