BEGIN:VCALENDAR
METHOD:PUBLISH
PRODID:evanced event management system
VERSION:2.0
BEGIN:VEVENT
UID:http://events.wlnonline.org/eventsignup.asp?ID=36794
DTSTAMP:20240701T111552Z
DTSTART:20240717T143000Z
DTEND:20240717T153000Z
TITLE;ENCODING=QUOTED-PRINTABLE:Adventures of a Plastic Bottle 
SUMMARY;ENCODING=QUOTED-PRINTABLE:Adventures of a Plastic Bottle 
DESCRIPTION;ENCODING=QUOTED-PRINTABLE:Join Miss Natalie from Westmoreland Cleanways as we explore the adventure of a plastic bottle; from its origins as crude oil to being recycled into something new. This program is held at CDT and requires registration. To register, please stop by the Children's Room or call 724-537-4383!
LOCATION:Adams Memorial Library at CDT
URL:http://events.wlnonline.org/eventsignup.asp?ID=36794
CATEGORIES:Children's Program
END:VEVENT
END:VCALENDAR
