BEGIN:VCALENDAR
METHOD:PUBLISH
PRODID:evanced event management system
VERSION:2.0
BEGIN:VEVENT
UID:http://events.wlnonline.org/eventsignup.asp?ID=36685
DTSTAMP:20240814T142303Z
DTSTART:20240806T141500Z
DTEND:20240806T221500Z
TITLE;ENCODING=QUOTED-PRINTABLE:Crafty Tuesday
SUMMARY;ENCODING=QUOTED-PRINTABLE:Crafty Tuesday
DESCRIPTION;ENCODING=QUOTED-PRINTABLE:Stop into Scottdale Public Library to complete a new DIY craft every week during the summer. All materials provided!=0D=0A=0D=0ACrafts are self-guided meaning a guardian may be required for smaller children to complete the craft.
LOCATION:Scottdale Public Library at Reading Room
URL:http://events.wlnonline.org/eventsignup.asp?ID=36685
CATEGORIES:Summer Reading Program
END:VEVENT
END:VCALENDAR
