BEGIN:VCALENDAR
METHOD:PUBLISH
PRODID:evanced event management system
VERSION:2.0
BEGIN:VEVENT
UID:http://events.wlnonline.org/eventsignup.asp?ID=36385
DTSTAMP:20241026T153313Z
DTSTART:20240713T140000Z
DTEND:20240713T210000Z
TITLE;ENCODING=QUOTED-PRINTABLE:Peoples Library Annual Booksale
SUMMARY;ENCODING=QUOTED-PRINTABLE:Peoples Library Annual Booksale
DESCRIPTION;ENCODING=QUOTED-PRINTABLE:We invite you to visit the booksale at both our libraries!
LOCATION:Peoples Library
URL:http://events.wlnonline.org/eventsignup.asp?ID=36385
CATEGORIES:Charity & Fundraising
END:VEVENT
END:VCALENDAR
