BEGIN:VCALENDAR
METHOD:PUBLISH
PRODID:evanced event management system
VERSION:2.0
BEGIN:VEVENT
UID:http://events.wlnonline.org/eventsignup.asp?ID=35729
DTSTAMP:20240503T142417Z
DTSTART:20240715T140000Z
DTEND:20240715T160000Z
TITLE;ENCODING=QUOTED-PRINTABLE:Library Knitters
SUMMARY;ENCODING=QUOTED-PRINTABLE:Library Knitters
DESCRIPTION;ENCODING=QUOTED-PRINTABLE:The library knitters meet every other Monday from 10:00 a.m. to 12:00 p.m. in conference room 1. No registration required. Bring your favorite craft and join in on the fun.
LOCATION:Murrysville Community Library at Murrysville Community Library
URL:http://events.wlnonline.org/eventsignup.asp?ID=35729
CATEGORIES:Adult Program
END:VEVENT
END:VCALENDAR
