BEGIN:VCALENDAR
METHOD:PUBLISH
PRODID:evanced event management system
VERSION:2.0
BEGIN:VEVENT
UID:http://events.wlnonline.org/eventsignup.asp?ID=33273
DTSTAMP:20231219T115508Z
DTSTART:20250611T170000Z
DTEND:20250611T183000Z
TITLE;ENCODING=QUOTED-PRINTABLE:RPL Book Club
SUMMARY;ENCODING=QUOTED-PRINTABLE:RPL Book Club
DESCRIPTION;ENCODING=QUOTED-PRINTABLE:Readers gather each month to discuss that month's pick. Books are available at the library.=0D=0A
LOCATION:Rostraver Public Library
URL:http://events.wlnonline.org/eventsignup.asp?ID=33273
CATEGORIES:Book Club
END:VEVENT
END:VCALENDAR
