BEGIN:VCALENDAR
METHOD:PUBLISH
PRODID:evanced event management system
VERSION:2.0
BEGIN:VEVENT
UID:http://events.wlnonline.org/eventsignup.asp?ID=30436
DTSTAMP:20230519T155848Z
DTSTART:20230602T151500Z
DTEND:20230602T161500Z
TITLE;ENCODING=QUOTED-PRINTABLE:Garden Days: Ages 6+
SUMMARY;ENCODING=QUOTED-PRINTABLE:Garden Days: Ages 6+
DESCRIPTION;ENCODING=QUOTED-PRINTABLE:Join us for fun in the RPL garden! This group will help to maintain the garden, learn about gardening topics, and enjoy crafts/activities. 
LOCATION:Rostraver Public Library
URL:http://events.wlnonline.org/eventsignup.asp?ID=30436
CATEGORIES:Gardening
END:VEVENT
END:VCALENDAR
