BEGIN:VCALENDAR
METHOD:PUBLISH
PRODID:evanced event management system
VERSION:2.0
BEGIN:VEVENT
UID:http://events.wlnonline.org/eventsignup.asp?ID=22549
DTSTAMP:20210920T140250Z
DTSTART:20211014T140000Z
DTEND:20211014T144500Z
TITLE;ENCODING=QUOTED-PRINTABLE:Pre-K Picassos
SUMMARY;ENCODING=QUOTED-PRINTABLE:Pre-K Picassos
DESCRIPTION;ENCODING=QUOTED-PRINTABLE:Inspired by the art of famous artists, children will create their own mini masterpiece every Thursday in September. Little ones will practice using their fine motor skills by painting with fingers, cotton balls, paint brushes, and even toy cars! A great opportunity for children ages 2 – 5 to safely socialize through parallel play.=0D=0AChildren's smocks are available to use during this program, however, we strongly recommend dressing your little one in play clothing.=0D=0APer CDC guidelines, Face Masks are required for individuals age 5 and up.
LOCATION:Penn Area Library at Multipurpose Room
URL:http://events.wlnonline.org/eventsignup.asp?ID=22549
CATEGORIES:Children's Program
END:VEVENT
END:VCALENDAR
