BEGIN:VCALENDAR
METHOD:PUBLISH
PRODID:evanced event management system
VERSION:2.0
BEGIN:VEVENT
UID:http://events.wlnonline.org/eventsignup.asp?ID=22025
DTSTAMP:20210720T141557Z
DTSTART:20210722T150000Z
DTEND:20210722T153000Z
TITLE;ENCODING=QUOTED-PRINTABLE:Amazing Creatures
SUMMARY;ENCODING=QUOTED-PRINTABLE:Amazing Creatures
DESCRIPTION;ENCODING=QUOTED-PRINTABLE:Animals have some amazing senses!  Learn more about what they eat, how they see, and what makes them unique.
LOCATION:Murrysville Community Library at Veterans' Pavilion, 4200 Sardis Road
URL:http://events.wlnonline.org/eventsignup.asp?ID=22025
CATEGORIES:Summer Reading Program
END:VEVENT
END:VCALENDAR
